BEGIN:VCALENDAR
VERSION:2.0
PRODID:-//Pax Christikerk - ECPv6.15.20//NONSGML v1.0//EN
CALSCALE:GREGORIAN
METHOD:PUBLISH
X-WR-CALNAME:Pax Christikerk
X-ORIGINAL-URL:https://www.paxchristikerk.nl
X-WR-CALDESC:Evenementen voor Pax Christikerk
REFRESH-INTERVAL;VALUE=DURATION:PT1H
X-Robots-Tag:noindex
X-PUBLISHED-TTL:PT1H
BEGIN:VTIMEZONE
TZID:Europe/Amsterdam
BEGIN:DAYLIGHT
TZOFFSETFROM:+0100
TZOFFSETTO:+0200
TZNAME:CEST
DTSTART:20250330T010000
END:DAYLIGHT
BEGIN:STANDARD
TZOFFSETFROM:+0200
TZOFFSETTO:+0100
TZNAME:CET
DTSTART:20251026T010000
END:STANDARD
BEGIN:DAYLIGHT
TZOFFSETFROM:+0100
TZOFFSETTO:+0200
TZNAME:CEST
DTSTART:20260329T010000
END:DAYLIGHT
BEGIN:STANDARD
TZOFFSETFROM:+0200
TZOFFSETTO:+0100
TZNAME:CET
DTSTART:20261025T010000
END:STANDARD
BEGIN:DAYLIGHT
TZOFFSETFROM:+0100
TZOFFSETTO:+0200
TZNAME:CEST
DTSTART:20270328T010000
END:DAYLIGHT
BEGIN:STANDARD
TZOFFSETFROM:+0200
TZOFFSETTO:+0100
TZNAME:CET
DTSTART:20271031T010000
END:STANDARD
END:VTIMEZONE
BEGIN:VEVENT
DTSTART;TZID=Europe/Amsterdam:20260407T100000
DTEND;TZID=Europe/Amsterdam:20260407T120000
DTSTAMP:20260423T101135
CREATED:20260318T103913Z
LAST-MODIFIED:20260318T103913Z
UID:5806-1775556000-1775563200@www.paxchristikerk.nl
SUMMARY:KerkCafé
DESCRIPTION:De (gratis) koffie staat klaar\, en er is voor elk wat wils. Er is een stamtafel voor een gezellige ontmoeting met een buurtgenoot
URL:https://www.paxchristikerk.nl/agenda/kerkcafe-54/
LOCATION:Pax Christikerk\, Vlamenburg 2\, Den Haag\, 2591 AS\, Nederland
CATEGORIES:Agenda,KerkCafé
ATTACH;FMTTYPE=image/png:https://www.paxchristikerk.nl/wp-content/uploads/2024/02/kerkcafe.png
END:VEVENT
BEGIN:VEVENT
DTSTART;TZID=Europe/Amsterdam:20260412T110000
DTEND;TZID=Europe/Amsterdam:20260412T123000
DTSTAMP:20260423T101135
CREATED:20260104T124012Z
LAST-MODIFIED:20260104T124012Z
UID:5666-1775991600-1775997000@www.paxchristikerk.nl
SUMMARY:Paxdienst - Hendrik Stevens
DESCRIPTION:Predikant: Hendrik Stevens \nRechtstreeks (of achteraf) te zien op ons YouTube kanaal:https://www.youtube.com/@paxchristikerk \nRechtstreeks (of achteraf) te beluisteren via Kerkdienstgemist:https://kerkdienstgemist.nl/stations/1585-Pax-Christikerk-Den-Haag
URL:https://www.paxchristikerk.nl/agenda/paxdienst-hendrik-stevens/
LOCATION:Pax Christikerk\, Vlamenburg 2\, Den Haag\, 2591 AS\, Nederland
CATEGORIES:Agenda,Paxdienst
ATTACH;FMTTYPE=image/jpeg:https://www.paxchristikerk.nl/wp-content/uploads/2024/11/Hendrik-Stevens-JacoHoeveFotografie-683x10241-1.jpg
END:VEVENT
BEGIN:VEVENT
DTSTART;TZID=Europe/Amsterdam:20260414T100000
DTEND;TZID=Europe/Amsterdam:20260414T120000
DTSTAMP:20260423T101135
CREATED:20260318T103913Z
LAST-MODIFIED:20260318T103913Z
UID:5807-1776160800-1776168000@www.paxchristikerk.nl
SUMMARY:KerkCafé
DESCRIPTION:De (gratis) koffie staat klaar\, en er is voor elk wat wils. Er is een stamtafel voor een gezellige ontmoeting met een buurtgenoot
URL:https://www.paxchristikerk.nl/agenda/kerkcafe-55/
LOCATION:Pax Christikerk\, Vlamenburg 2\, Den Haag\, 2591 AS\, Nederland
CATEGORIES:Agenda,KerkCafé
ATTACH;FMTTYPE=image/png:https://www.paxchristikerk.nl/wp-content/uploads/2024/02/kerkcafe.png
END:VEVENT
BEGIN:VEVENT
DTSTART;TZID=Europe/Amsterdam:20260419T110000
DTEND;TZID=Europe/Amsterdam:20260419T123000
DTSTAMP:20260423T101135
CREATED:20260104T124024Z
LAST-MODIFIED:20260104T124024Z
UID:5667-1776596400-1776601800@www.paxchristikerk.nl
SUMMARY:Paxdienst - ds. Jasper Klapwijk
DESCRIPTION:Predikant: ds. Jasper Klapwijk \nRechtstreeks (of achteraf) te zien op ons YouTube kanaal:https://www.youtube.com/@paxchristikerk \nRechtstreeks (of achteraf) te beluisteren via Kerkdienstgemist:https://kerkdienstgemist.nl/stations/1585-Pax-Christikerk-Den-Haag
URL:https://www.paxchristikerk.nl/agenda/paxdienst-ds-jasper-klapwijk-60/
LOCATION:Pax Christikerk\, Vlamenburg 2\, Den Haag\, 2591 AS\, Nederland
CATEGORIES:Agenda,Paxdienst
ATTACH;FMTTYPE=image/jpeg:https://www.paxchristikerk.nl/wp-content/uploads/2022/12/Jasper2-scaled.jpg
END:VEVENT
BEGIN:VEVENT
DTSTART;TZID=Europe/Amsterdam:20260421T100000
DTEND;TZID=Europe/Amsterdam:20260421T120000
DTSTAMP:20260423T101135
CREATED:20260318T103913Z
LAST-MODIFIED:20260318T103913Z
UID:5808-1776765600-1776772800@www.paxchristikerk.nl
SUMMARY:KerkCafé
DESCRIPTION:De (gratis) koffie staat klaar\, en er is voor elk wat wils. Er is een stamtafel voor een gezellige ontmoeting met een buurtgenoot
URL:https://www.paxchristikerk.nl/agenda/kerkcafe-56/
LOCATION:Pax Christikerk\, Vlamenburg 2\, Den Haag\, 2591 AS\, Nederland
CATEGORIES:Agenda,KerkCafé
ATTACH;FMTTYPE=image/png:https://www.paxchristikerk.nl/wp-content/uploads/2024/02/kerkcafe.png
END:VEVENT
BEGIN:VEVENT
DTSTART;TZID=Europe/Amsterdam:20260421T133000
DTEND;TZID=Europe/Amsterdam:20260421T153000
DTSTAMP:20260423T101135
CREATED:20250819T131011Z
LAST-MODIFIED:20250819T131011Z
UID:5479-1776778200-1776785400@www.paxchristikerk.nl
SUMMARY:KerkCafé-plus
DESCRIPTION:Cokkie zingt populaire verzoeknummers uit de jaren 40\, 50 en 60.
URL:https://www.paxchristikerk.nl/agenda/kerkcafe-plus-9/
LOCATION:Pax Christikerk\, Vlamenburg 2\, Den Haag\, 2591 AS\, Nederland
CATEGORIES:Agenda,KerkCafé
ATTACH;FMTTYPE=image/png:https://www.paxchristikerk.nl/wp-content/uploads/2024/02/kerkcafe.png
END:VEVENT
BEGIN:VEVENT
DTSTART;TZID=Europe/Amsterdam:20260426T110000
DTEND;TZID=Europe/Amsterdam:20260426T123000
DTSTAMP:20260423T101135
CREATED:20260104T124024Z
LAST-MODIFIED:20260104T124024Z
UID:5668-1777201200-1777206600@www.paxchristikerk.nl
SUMMARY:Paxdienst - ds. Jasper Klapwijk
DESCRIPTION:Predikant: ds. Jasper Klapwijk \nRechtstreeks (of achteraf) te zien op ons YouTube kanaal:https://www.youtube.com/@paxchristikerk \nRechtstreeks (of achteraf) te beluisteren via Kerkdienstgemist:https://kerkdienstgemist.nl/stations/1585-Pax-Christikerk-Den-Haag
URL:https://www.paxchristikerk.nl/agenda/paxdienst-ds-jasper-klapwijk-61/
LOCATION:Pax Christikerk\, Vlamenburg 2\, Den Haag\, 2591 AS\, Nederland
CATEGORIES:Agenda,Paxdienst
ATTACH;FMTTYPE=image/jpeg:https://www.paxchristikerk.nl/wp-content/uploads/2023/10/Jasper1-scaled.jpg
END:VEVENT
BEGIN:VEVENT
DTSTART;TZID=Europe/Amsterdam:20260427T150000
DTEND;TZID=Europe/Amsterdam:20260427T160000
DTSTAMP:20260423T101135
CREATED:20260422T100355Z
LAST-MODIFIED:20260422T100743Z
UID:5937-1777302000-1777305600@www.paxchristikerk.nl
SUMMARY:Koningsdagwandeling door Marlot voor jong en oud
DESCRIPTION:Verzamelen bij kruispunt Bezuidenhoutseweg en Hofzichtlaan. \nOok in rolstoel of met rollator kun je meedoen. \nInschrijfformulier in de Ontmoetingsruimte van de Pax. \n \n 
URL:https://www.paxchristikerk.nl/agenda/koningsdagwandeling/
LOCATION:Koningsdagwandeling\, Hofzichtlaan 32\, Den Haag\, 2594CD
CATEGORIES:Agenda
ATTACH;FMTTYPE=image/jpeg:https://www.paxchristikerk.nl/wp-content/uploads/2026/04/Koningsdagwandeling.jpg
END:VEVENT
BEGIN:VEVENT
DTSTART;TZID=Europe/Amsterdam:20260428T100000
DTEND;TZID=Europe/Amsterdam:20260428T120000
DTSTAMP:20260423T101135
CREATED:20260318T103918Z
LAST-MODIFIED:20260318T103918Z
UID:5809-1777370400-1777377600@www.paxchristikerk.nl
SUMMARY:KerkCafé
DESCRIPTION:De (gratis) koffie staat klaar\, en er is voor elk wat wils. Er is een stamtafel voor een gezellige ontmoeting met een buurtgenoot
URL:https://www.paxchristikerk.nl/agenda/kerkcafe-108/
LOCATION:Pax Christikerk\, Vlamenburg 2\, Den Haag\, 2591 AS\, Nederland
CATEGORIES:Agenda,KerkCafé
ATTACH;FMTTYPE=image/png:https://www.paxchristikerk.nl/wp-content/uploads/2024/02/kerkcafe.png
END:VEVENT
BEGIN:VEVENT
DTSTART;TZID=Europe/Amsterdam:20260430T110000
DTEND;TZID=Europe/Amsterdam:20260430T160000
DTSTAMP:20260423T101135
CREATED:20260422T095413Z
LAST-MODIFIED:20260422T095413Z
UID:5931-1777546800-1777564800@www.paxchristikerk.nl
SUMMARY:Kids Activiteiten Meivakantie
DESCRIPTION:Gratis activiteiten voor jongens en meisjes van 4 t/m 12 jaar: \n\nSpringkussen\nBloemzaadjes planten\nBloempotjes schilderen\nParcours competitie buiten\nKinderboerderij bezoeken\nGelijkenis van de zaaier\nSamen lunchen\nVrijspelen\nEn nog meer…
URL:https://www.paxchristikerk.nl/agenda/kids-activiteiten-meivakantie-2026-1/
LOCATION:Pax Christikerk\, Vlamenburg 2\, Den Haag\, 2591 AS\, Nederland
CATEGORIES:Agenda,Jeugdwerk
ATTACH;FMTTYPE=image/png:https://www.paxchristikerk.nl/wp-content/uploads/2026/04/meivakantie.png
END:VEVENT
BEGIN:VEVENT
DTSTART;TZID=Europe/Amsterdam:20260501T110000
DTEND;TZID=Europe/Amsterdam:20260501T160000
DTSTAMP:20260423T101135
CREATED:20260422T095634Z
LAST-MODIFIED:20260422T095634Z
UID:5934-1777633200-1777651200@www.paxchristikerk.nl
SUMMARY:Kids Activiteiten Meivakantie
DESCRIPTION:Gratis activiteiten voor jongens en meisjes van 4 t/m 12 jaar: \n\nSpringkussen\nBloemzaadjes planten\nBloempotjes schilderen\nParcours competitie buiten\nKinderboerderij bezoeken\nGelijkenis van de zaaier\nSamen lunchen\nVrijspelen\nEn nog meer…
URL:https://www.paxchristikerk.nl/agenda/kids-activiteiten-meivakantie-2026-2/
LOCATION:Pax Christikerk\, Vlamenburg 2\, Den Haag\, 2591 AS\, Nederland
CATEGORIES:Agenda,Jeugdwerk
ATTACH;FMTTYPE=image/png:https://www.paxchristikerk.nl/wp-content/uploads/2026/04/meivakantie.png
END:VEVENT
BEGIN:VEVENT
DTSTART;TZID=Europe/Amsterdam:20260502T133000
DTEND;TZID=Europe/Amsterdam:20260502T153000
DTSTAMP:20260423T101135
CREATED:20260422T101432Z
LAST-MODIFIED:20260422T101432Z
UID:5947-1777728600-1777735800@www.paxchristikerk.nl
SUMMARY:Pax Doet: Bingo
DESCRIPTION:De diaconie organiseert een Bingomiddag voor de bewoners van Florence aan de Hofzichtlaan. \nWilt u helpen? \nSchrijf in op het andere aanmeldingsformulier in de Ontmoetingsruimte van de Pax.
URL:https://www.paxchristikerk.nl/agenda/pax-doet-bingo/
LOCATION:Florence\, Hofzichtlaan 115\, Den Haag\, 2594 XZ
CATEGORIES:Agenda
ATTACH;FMTTYPE=image/jpeg:https://www.paxchristikerk.nl/wp-content/uploads/2026/04/Pax-doet.jpg
END:VEVENT
BEGIN:VEVENT
DTSTART;TZID=Europe/Amsterdam:20260503T110000
DTEND;TZID=Europe/Amsterdam:20260503T123000
DTSTAMP:20260423T101135
CREATED:20260104T124024Z
LAST-MODIFIED:20260104T124024Z
UID:5669-1777806000-1777811400@www.paxchristikerk.nl
SUMMARY:Paxdienst - ds. Arenda Haasnoot
DESCRIPTION:Predikant: ds. Arenda Haasnoot  \nRechtstreeks (of achteraf) te zien op ons YouTube kanaal:https://www.youtube.com/@paxchristikerk \nRechtstreeks (of achteraf) te beluisteren via Kerkdienstgemist:https://kerkdienstgemist.nl/stations/1585-Pax-Christikerk-Den-Haag
URL:https://www.paxchristikerk.nl/agenda/paxdienst-ds-arenda-haasnoot-3/
LOCATION:Pax Christikerk\, Vlamenburg 2\, Den Haag\, 2591 AS\, Nederland
CATEGORIES:Agenda,Paxdienst
ATTACH;FMTTYPE=image/jpeg:https://www.paxchristikerk.nl/wp-content/uploads/2024/11/Arenda-Haasnoot.jpg
END:VEVENT
BEGIN:VEVENT
DTSTART;TZID=Europe/Amsterdam:20260505T100000
DTEND;TZID=Europe/Amsterdam:20260505T120000
DTSTAMP:20260423T101135
CREATED:20260318T103918Z
LAST-MODIFIED:20260318T103918Z
UID:5810-1777975200-1777982400@www.paxchristikerk.nl
SUMMARY:KerkCafé
DESCRIPTION:De (gratis) koffie staat klaar\, en er is voor elk wat wils. Er is een stamtafel voor een gezellige ontmoeting met een buurtgenoot
URL:https://www.paxchristikerk.nl/agenda/kerkcafe-109/
LOCATION:Pax Christikerk\, Vlamenburg 2\, Den Haag\, 2591 AS\, Nederland
CATEGORIES:Agenda,KerkCafé
ATTACH;FMTTYPE=image/png:https://www.paxchristikerk.nl/wp-content/uploads/2024/02/kerkcafe.png
END:VEVENT
BEGIN:VEVENT
DTSTART;TZID=Europe/Amsterdam:20260510T110000
DTEND;TZID=Europe/Amsterdam:20260510T123000
DTSTAMP:20260423T101135
CREATED:20260104T124025Z
LAST-MODIFIED:20260104T124025Z
UID:5670-1778410800-1778416200@www.paxchristikerk.nl
SUMMARY:Paxdienst - ds. Jasper Klapwijk
DESCRIPTION:Predikant: ds. Jasper Klapwijk \nRechtstreeks (of achteraf) te zien op ons YouTube kanaal:https://www.youtube.com/@paxchristikerk \nRechtstreeks (of achteraf) te beluisteren via Kerkdienstgemist:https://kerkdienstgemist.nl/stations/1585-Pax-Christikerk-Den-Haag
URL:https://www.paxchristikerk.nl/agenda/paxdienst-ds-jasper-klapwijk-62/
LOCATION:Pax Christikerk\, Vlamenburg 2\, Den Haag\, 2591 AS\, Nederland
CATEGORIES:Agenda,Paxdienst
ATTACH;FMTTYPE=image/jpeg:https://www.paxchristikerk.nl/wp-content/uploads/2022/12/Jasper2-scaled.jpg
END:VEVENT
BEGIN:VEVENT
DTSTART;TZID=Europe/Amsterdam:20260512T100000
DTEND;TZID=Europe/Amsterdam:20260512T120000
DTSTAMP:20260423T101135
CREATED:20260318T103919Z
LAST-MODIFIED:20260318T103919Z
UID:5811-1778580000-1778587200@www.paxchristikerk.nl
SUMMARY:KerkCafé
DESCRIPTION:De (gratis) koffie staat klaar\, en er is voor elk wat wils. Er is een stamtafel voor een gezellige ontmoeting met een buurtgenoot
URL:https://www.paxchristikerk.nl/agenda/kerkcafe-110/
LOCATION:Pax Christikerk\, Vlamenburg 2\, Den Haag\, 2591 AS\, Nederland
CATEGORIES:Agenda,KerkCafé
ATTACH;FMTTYPE=image/png:https://www.paxchristikerk.nl/wp-content/uploads/2024/02/kerkcafe.png
END:VEVENT
BEGIN:VEVENT
DTSTART;TZID=Europe/Amsterdam:20260513T100000
DTEND;TZID=Europe/Amsterdam:20260513T113000
DTSTAMP:20260423T101135
CREATED:20260415T194402Z
LAST-MODIFIED:20260415T194402Z
UID:5887-1778666400-1778671800@www.paxchristikerk.nl
SUMMARY:Zangochtend
DESCRIPTION:Elke derde dinsdag van de maand is er een zangochtend. Om 10 uur wordt begonnen met een bakje koffie of thee\, waarna in de kerkzaal onder orgelbegeleiding een uurtje gezongen wordt. Het repertoire bestaat vooral uit de wat klassiekere liederen: psalmen en liederen uit het oude Liedboek voor de Kerken. Iedereen die mee wil zingen is van harte welkom.
URL:https://www.paxchristikerk.nl/agenda/zangochtend/
LOCATION:Pax Christikerk\, Vlamenburg 2\, Den Haag\, 2591 AS\, Nederland
CATEGORIES:Agenda,Zangochtend
ATTACH;FMTTYPE=image/jpeg:https://www.paxchristikerk.nl/wp-content/uploads/2023/09/3_13-caen41.jpg
END:VEVENT
BEGIN:VEVENT
DTSTART;TZID=Europe/Amsterdam:20260514T103000
DTEND;TZID=Europe/Amsterdam:20260514T120000
DTSTAMP:20260423T101135
CREATED:20260422T103024Z
LAST-MODIFIED:20260422T103400Z
UID:5953-1778754600-1778760000@www.paxchristikerk.nl
SUMMARY:Hemelvaartsviering 2026
DESCRIPTION:Op Hemelvaartsdag organiseert het Missionair Platform Den Haag in samenwerking met zo’n veertig verschillende kerken een interculturele kerkelijke viering. Net als voorgaande jaren wordt de dienst gehouden in De Grote of Sint Jacobskerk in het centrum van Den Haag. \nIedereen is welkom om het feest van Hemelvaart mee te vieren op donderdag 14 mei. De dienst begint om 10:30 uur\, de deuren gaan open om 10:00 uur. \nHet thema is: ‘Samen één in geloof‘. \nSpreker tijdens de dienst is voorganger Sam Nanhu van buurtkerk De Rank én Baptistengemeente Scheveningen. \nDe muzikale medewerking wordt verleend door een band uit de Ichtuskerk in Scheveningen en organist Danny Spaans. \nVoor kinderen is er een kindermoment tijdens de dienst en een werkblad dat ze tijdens de dienst kunnen maken. \nNa afloop is er tijd om elkaar te ontmoeten en na te praten. Koffie\, thee en koek staan dan klaar.
URL:https://www.paxchristikerk.nl/agenda/hemelvaartsviering-2026/
LOCATION:Grote Kerk Den Haag\, Rond de Grote Kerk 12\, Den Haag\, 2513AM\, Nederland
CATEGORIES:Agenda
ATTACH;FMTTYPE=image/jpeg:https://www.paxchristikerk.nl/wp-content/uploads/2026/04/Hemelvaartsviering-sheet-1.jpg
END:VEVENT
BEGIN:VEVENT
DTSTART;TZID=Europe/Amsterdam:20260517T110000
DTEND;TZID=Europe/Amsterdam:20260517T123000
DTSTAMP:20260423T101135
CREATED:20260104T124025Z
LAST-MODIFIED:20260104T124025Z
UID:5671-1779015600-1779021000@www.paxchristikerk.nl
SUMMARY:Paxdienst - ds. Lucas van der Veen
DESCRIPTION:Predikant: ds. Lucas van der Veen  \nRechtstreeks (of achteraf) te zien op ons YouTube kanaal:https://www.youtube.com/@paxchristikerk \nRechtstreeks (of achteraf) te beluisteren via Kerkdienstgemist:https://kerkdienstgemist.nl/stations/1585-Pax-Christikerk-Den-Haag
URL:https://www.paxchristikerk.nl/agenda/paxdienst-ds-lucas-van-der-veen/
LOCATION:Pax Christikerk\, Vlamenburg 2\, Den Haag\, 2591 AS\, Nederland
CATEGORIES:Agenda,Paxdienst
ATTACH;FMTTYPE=image/jpeg:https://www.paxchristikerk.nl/wp-content/uploads/2020/04/20200401_170659-scaled.jpg
END:VEVENT
BEGIN:VEVENT
DTSTART;TZID=Europe/Amsterdam:20260519T100000
DTEND;TZID=Europe/Amsterdam:20260519T120000
DTSTAMP:20260423T101135
CREATED:20260318T103919Z
LAST-MODIFIED:20260318T103919Z
UID:5812-1779184800-1779192000@www.paxchristikerk.nl
SUMMARY:KerkCafé
DESCRIPTION:De (gratis) koffie staat klaar\, en er is voor elk wat wils. Er is een stamtafel voor een gezellige ontmoeting met een buurtgenoot
URL:https://www.paxchristikerk.nl/agenda/kerkcafe-111/
LOCATION:Pax Christikerk\, Vlamenburg 2\, Den Haag\, 2591 AS\, Nederland
CATEGORIES:Agenda,KerkCafé
ATTACH;FMTTYPE=image/png:https://www.paxchristikerk.nl/wp-content/uploads/2024/02/kerkcafe.png
END:VEVENT
BEGIN:VEVENT
DTSTART;TZID=Europe/Amsterdam:20260519T133000
DTEND;TZID=Europe/Amsterdam:20260519T153000
DTSTAMP:20260423T101135
CREATED:20250819T131011Z
LAST-MODIFIED:20250819T131011Z
UID:5480-1779197400-1779204600@www.paxchristikerk.nl
SUMMARY:KerkCafé-plus
DESCRIPTION:Cokkie zingt populaire verzoeknummers uit de jaren 40\, 50 en 60.
URL:https://www.paxchristikerk.nl/agenda/kerkcafe-plus-10/
LOCATION:Pax Christikerk\, Vlamenburg 2\, Den Haag\, 2591 AS\, Nederland
CATEGORIES:Agenda,KerkCafé
ATTACH;FMTTYPE=image/png:https://www.paxchristikerk.nl/wp-content/uploads/2024/02/kerkcafe.png
END:VEVENT
BEGIN:VEVENT
DTSTART;TZID=Europe/Amsterdam:20260524T110000
DTEND;TZID=Europe/Amsterdam:20260524T123000
DTSTAMP:20260423T101135
CREATED:20260104T124039Z
LAST-MODIFIED:20260104T124039Z
UID:5672-1779620400-1779625800@www.paxchristikerk.nl
SUMMARY:Pinksterdienst - ds. Jasper Klapwijk
DESCRIPTION:Predikant: ds. Jasper Klapwijk \nRechtstreeks (of achteraf) te zien op ons YouTube kanaal:https://www.youtube.com/@paxchristikerk \nRechtstreeks (of achteraf) te beluisteren via Kerkdienstgemist:https://kerkdienstgemist.nl/stations/1585-Pax-Christikerk-Den-Haag
URL:https://www.paxchristikerk.nl/agenda/pinksterdienst-ds-jasper-klapwijk-2/
LOCATION:Pax Christikerk\, Vlamenburg 2\, Den Haag\, 2591 AS\, Nederland
CATEGORIES:Agenda,Paxdienst
ATTACH;FMTTYPE=image/jpeg:https://www.paxchristikerk.nl/wp-content/uploads/2023/10/Jasper1-scaled.jpg
END:VEVENT
BEGIN:VEVENT
DTSTART;TZID=Europe/Amsterdam:20260526T100000
DTEND;TZID=Europe/Amsterdam:20260526T120000
DTSTAMP:20260423T101135
CREATED:20260318T103919Z
LAST-MODIFIED:20260318T103919Z
UID:5813-1779789600-1779796800@www.paxchristikerk.nl
SUMMARY:KerkCafé
DESCRIPTION:De (gratis) koffie staat klaar\, en er is voor elk wat wils. Er is een stamtafel voor een gezellige ontmoeting met een buurtgenoot
URL:https://www.paxchristikerk.nl/agenda/kerkcafe-112/
LOCATION:Pax Christikerk\, Vlamenburg 2\, Den Haag\, 2591 AS\, Nederland
CATEGORIES:Agenda,KerkCafé
ATTACH;FMTTYPE=image/png:https://www.paxchristikerk.nl/wp-content/uploads/2024/02/kerkcafe.png
END:VEVENT
BEGIN:VEVENT
DTSTART;TZID=Europe/Amsterdam:20260531T110000
DTEND;TZID=Europe/Amsterdam:20260531T123000
DTSTAMP:20260423T101135
CREATED:20260104T124039Z
LAST-MODIFIED:20260104T124039Z
UID:5673-1780225200-1780230600@www.paxchristikerk.nl
SUMMARY:Paxdienst - ds. Menno Zandbergen
DESCRIPTION:Predikant: ds. Menno Zandbergen \nRechtstreeks (of achteraf) te zien op ons YouTube kanaal:https://www.youtube.com/@paxchristikerk \nRechtstreeks (of achteraf) te beluisteren via Kerkdienstgemist:https://kerkdienstgemist.nl/stations/1585-Pax-Christikerk-Den-Haag
URL:https://www.paxchristikerk.nl/agenda/paxdienst-ds-menno-zandbergen-3/
LOCATION:Pax Christikerk\, Vlamenburg 2\, Den Haag\, 2591 AS\, Nederland
CATEGORIES:Agenda,Paxdienst
ATTACH;FMTTYPE=image/jpeg:https://www.paxchristikerk.nl/wp-content/uploads/2024/04/menno20zandbergen-31-e1713551574585.jpg
END:VEVENT
BEGIN:VEVENT
DTSTART;TZID=Europe/Amsterdam:20260602T100000
DTEND;TZID=Europe/Amsterdam:20260602T120000
DTSTAMP:20260423T101135
CREATED:20260318T103934Z
LAST-MODIFIED:20260318T103934Z
UID:5814-1780394400-1780401600@www.paxchristikerk.nl
SUMMARY:KerkCafé
DESCRIPTION:De (gratis) koffie staat klaar\, en er is voor elk wat wils. Er is een stamtafel voor een gezellige ontmoeting met een buurtgenoot
URL:https://www.paxchristikerk.nl/agenda/kerkcafe-113/
LOCATION:Pax Christikerk\, Vlamenburg 2\, Den Haag\, 2591 AS\, Nederland
CATEGORIES:Agenda,KerkCafé
ATTACH;FMTTYPE=image/png:https://www.paxchristikerk.nl/wp-content/uploads/2024/02/kerkcafe.png
END:VEVENT
BEGIN:VEVENT
DTSTART;TZID=Europe/Amsterdam:20260607T110000
DTEND;TZID=Europe/Amsterdam:20260607T123000
DTSTAMP:20260423T101135
CREATED:20260104T124040Z
LAST-MODIFIED:20260104T124040Z
UID:5674-1780830000-1780835400@www.paxchristikerk.nl
SUMMARY:Paxdienst - ds. Jasper Klapwijk
DESCRIPTION:Predikant: ds. Jasper Klapwijk \nRechtstreeks (of achteraf) te zien op ons YouTube kanaal:https://www.youtube.com/@paxchristikerk \nRechtstreeks (of achteraf) te beluisteren via Kerkdienstgemist:https://kerkdienstgemist.nl/stations/1585-Pax-Christikerk-Den-Haag
URL:https://www.paxchristikerk.nl/agenda/paxdienst-ds-jasper-klapwijk-63/
LOCATION:Pax Christikerk\, Vlamenburg 2\, Den Haag\, 2591 AS\, Nederland
CATEGORIES:Agenda,Paxdienst
ATTACH;FMTTYPE=image/jpeg:https://www.paxchristikerk.nl/wp-content/uploads/2022/12/Jasper2-scaled.jpg
END:VEVENT
BEGIN:VEVENT
DTSTART;TZID=Europe/Amsterdam:20260609T100000
DTEND;TZID=Europe/Amsterdam:20260609T120000
DTSTAMP:20260423T101135
CREATED:20260318T103934Z
LAST-MODIFIED:20260318T103934Z
UID:5815-1780999200-1781006400@www.paxchristikerk.nl
SUMMARY:KerkCafé
DESCRIPTION:De (gratis) koffie staat klaar\, en er is voor elk wat wils. Er is een stamtafel voor een gezellige ontmoeting met een buurtgenoot
URL:https://www.paxchristikerk.nl/agenda/kerkcafe-114/
LOCATION:Pax Christikerk\, Vlamenburg 2\, Den Haag\, 2591 AS\, Nederland
CATEGORIES:Agenda,KerkCafé
ATTACH;FMTTYPE=image/png:https://www.paxchristikerk.nl/wp-content/uploads/2024/02/kerkcafe.png
END:VEVENT
BEGIN:VEVENT
DTSTART;TZID=Europe/Amsterdam:20260610T100000
DTEND;TZID=Europe/Amsterdam:20260610T113000
DTSTAMP:20260423T101135
CREATED:20260415T194402Z
LAST-MODIFIED:20260415T194402Z
UID:5888-1781085600-1781091000@www.paxchristikerk.nl
SUMMARY:Zangochtend
DESCRIPTION:Elke derde dinsdag van de maand is er een zangochtend. Om 10 uur wordt begonnen met een bakje koffie of thee\, waarna in de kerkzaal onder orgelbegeleiding een uurtje gezongen wordt. Het repertoire bestaat vooral uit de wat klassiekere liederen: psalmen en liederen uit het oude Liedboek voor de Kerken. Iedereen die mee wil zingen is van harte welkom.
URL:https://www.paxchristikerk.nl/agenda/zangochtend-10/
LOCATION:Pax Christikerk\, Vlamenburg 2\, Den Haag\, 2591 AS\, Nederland
CATEGORIES:Agenda,Zangochtend
ATTACH;FMTTYPE=image/jpeg:https://www.paxchristikerk.nl/wp-content/uploads/2023/09/3_13-caen41.jpg
END:VEVENT
BEGIN:VEVENT
DTSTART;TZID=Europe/Amsterdam:20260614T110000
DTEND;TZID=Europe/Amsterdam:20260614T123000
DTSTAMP:20260423T101135
CREATED:20260104T124040Z
LAST-MODIFIED:20260104T124040Z
UID:5675-1781434800-1781440200@www.paxchristikerk.nl
SUMMARY:Paxdienst - ds. Hans van 't Hoff
DESCRIPTION:Predikant: ds. Hans van ’t Hoff \nRechtstreeks (of achteraf) te zien op ons YouTube kanaal:https://www.youtube.com/@paxchristikerk \nRechtstreeks (of achteraf) te beluisteren via Kerkdienstgemist:https://kerkdienstgemist.nl/stations/1585-Pax-Christikerk-Den-Haag
URL:https://www.paxchristikerk.nl/agenda/paxdienst-ds-hans-van-t-hoff-4/
LOCATION:Pax Christikerk\, Vlamenburg 2\, Den Haag\, 2591 AS\, Nederland
CATEGORIES:Agenda,Paxdienst
ATTACH;FMTTYPE=image/jpeg:https://www.paxchristikerk.nl/wp-content/uploads/2026/01/IMG-20230404-WA0003_588_1681044815544.jpg
END:VEVENT
BEGIN:VEVENT
DTSTART;TZID=Europe/Amsterdam:20260616T100000
DTEND;TZID=Europe/Amsterdam:20260616T120000
DTSTAMP:20260423T101135
CREATED:20260318T103934Z
LAST-MODIFIED:20260318T103934Z
UID:5816-1781604000-1781611200@www.paxchristikerk.nl
SUMMARY:KerkCafé
DESCRIPTION:De (gratis) koffie staat klaar\, en er is voor elk wat wils. Er is een stamtafel voor een gezellige ontmoeting met een buurtgenoot
URL:https://www.paxchristikerk.nl/agenda/kerkcafe-115/
LOCATION:Pax Christikerk\, Vlamenburg 2\, Den Haag\, 2591 AS\, Nederland
CATEGORIES:Agenda,KerkCafé
ATTACH;FMTTYPE=image/png:https://www.paxchristikerk.nl/wp-content/uploads/2024/02/kerkcafe.png
END:VEVENT
END:VCALENDAR