BEGIN:VCALENDAR
VERSION:2.0
PRODID:-//Pax Christikerk - ECPv6.15.20//NONSGML v1.0//EN
CALSCALE:GREGORIAN
METHOD:PUBLISH
X-WR-CALNAME:Pax Christikerk
X-ORIGINAL-URL:https://www.paxchristikerk.nl
X-WR-CALDESC:Evenementen voor Pax Christikerk
REFRESH-INTERVAL;VALUE=DURATION:PT1H
X-Robots-Tag:noindex
X-PUBLISHED-TTL:PT1H
BEGIN:VTIMEZONE
TZID:Europe/Amsterdam
BEGIN:DAYLIGHT
TZOFFSETFROM:+0100
TZOFFSETTO:+0200
TZNAME:CEST
DTSTART:20250330T010000
END:DAYLIGHT
BEGIN:STANDARD
TZOFFSETFROM:+0200
TZOFFSETTO:+0100
TZNAME:CET
DTSTART:20251026T010000
END:STANDARD
BEGIN:DAYLIGHT
TZOFFSETFROM:+0100
TZOFFSETTO:+0200
TZNAME:CEST
DTSTART:20260329T010000
END:DAYLIGHT
BEGIN:STANDARD
TZOFFSETFROM:+0200
TZOFFSETTO:+0100
TZNAME:CET
DTSTART:20261025T010000
END:STANDARD
BEGIN:DAYLIGHT
TZOFFSETFROM:+0100
TZOFFSETTO:+0200
TZNAME:CEST
DTSTART:20270328T010000
END:DAYLIGHT
BEGIN:STANDARD
TZOFFSETFROM:+0200
TZOFFSETTO:+0100
TZNAME:CET
DTSTART:20271031T010000
END:STANDARD
BEGIN:DAYLIGHT
TZOFFSETFROM:+0100
TZOFFSETTO:+0200
TZNAME:CEST
DTSTART:20280326T010000
END:DAYLIGHT
BEGIN:STANDARD
TZOFFSETFROM:+0200
TZOFFSETTO:+0100
TZNAME:CET
DTSTART:20281029T010000
END:STANDARD
END:VTIMEZONE
BEGIN:VEVENT
DTSTART;TZID=Europe/Amsterdam:20261220T110000
DTEND;TZID=Europe/Amsterdam:20261220T123000
DTSTAMP:20260421T231140
CREATED:20260104T124219Z
LAST-MODIFIED:20260104T124219Z
UID:5702-1797764400-1797769800@www.paxchristikerk.nl
SUMMARY:Paxdienst - ds. Hans Riemer
DESCRIPTION:Predikant: ds. Hans Riemer \nRechtstreeks (of achteraf) te zien op ons YouTube kanaal:https://www.youtube.com/@paxchristikerk \nRechtstreeks (of achteraf) te beluisteren via Kerkdienstgemist:https://kerkdienstgemist.nl/stations/1585-Pax-Christikerk-Den-Haag
URL:https://www.paxchristikerk.nl/agenda/paxdienst-ds-hans-riemer/
LOCATION:Pax Christikerk\, Vlamenburg 2\, Den Haag\, 2591 AS\, Nederland
CATEGORIES:Agenda,Paxdienst
ATTACH;FMTTYPE=image/jpeg:https://www.paxchristikerk.nl/wp-content/uploads/2020/04/20200401_170659-scaled.jpg
END:VEVENT
BEGIN:VEVENT
DTSTART;TZID=Europe/Amsterdam:20261222T100000
DTEND;TZID=Europe/Amsterdam:20261222T120000
DTSTAMP:20260421T231140
CREATED:20260318T104049Z
LAST-MODIFIED:20260318T104049Z
UID:5843-1797933600-1797940800@www.paxchristikerk.nl
SUMMARY:KerkCafé
DESCRIPTION:De (gratis) koffie staat klaar\, en er is voor elk wat wils. Er is een stamtafel voor een gezellige ontmoeting met een buurtgenoot
URL:https://www.paxchristikerk.nl/agenda/kerkcafe-142/
LOCATION:Pax Christikerk\, Vlamenburg 2\, Den Haag\, 2591 AS\, Nederland
CATEGORIES:Agenda,KerkCafé
ATTACH;FMTTYPE=image/png:https://www.paxchristikerk.nl/wp-content/uploads/2024/02/kerkcafe.png
END:VEVENT
BEGIN:VEVENT
DTSTART;TZID=Europe/Amsterdam:20261227T110000
DTEND;TZID=Europe/Amsterdam:20261227T123000
DTSTAMP:20260421T231140
CREATED:20260104T124220Z
LAST-MODIFIED:20260104T124220Z
UID:5703-1798369200-1798374600@www.paxchristikerk.nl
SUMMARY:Paxdienst - ?
DESCRIPTION:Predikant: ? \nRechtstreeks (of achteraf) te zien op ons YouTube kanaal:https://www.youtube.com/@paxchristikerk \nRechtstreeks (of achteraf) te beluisteren via Kerkdienstgemist:https://kerkdienstgemist.nl/stations/1585-Pax-Christikerk-Den-Haag
URL:https://www.paxchristikerk.nl/agenda/paxdienst-3/
LOCATION:Pax Christikerk\, Vlamenburg 2\, Den Haag\, 2591 AS\, Nederland
CATEGORIES:Agenda,Paxdienst
ATTACH;FMTTYPE=image/jpeg:https://www.paxchristikerk.nl/wp-content/uploads/2020/04/20200401_170659-scaled.jpg
END:VEVENT
BEGIN:VEVENT
DTSTART;TZID=Europe/Amsterdam:20261229T100000
DTEND;TZID=Europe/Amsterdam:20261229T120000
DTSTAMP:20260421T231140
CREATED:20260318T104104Z
LAST-MODIFIED:20260318T104104Z
UID:5844-1798538400-1798545600@www.paxchristikerk.nl
SUMMARY:KerkCafé
DESCRIPTION:De (gratis) koffie staat klaar\, en er is voor elk wat wils. Er is een stamtafel voor een gezellige ontmoeting met een buurtgenoot
URL:https://www.paxchristikerk.nl/agenda/kerkcafe-143/
LOCATION:Pax Christikerk\, Vlamenburg 2\, Den Haag\, 2591 AS\, Nederland
CATEGORIES:Agenda,KerkCafé
ATTACH;FMTTYPE=image/png:https://www.paxchristikerk.nl/wp-content/uploads/2024/02/kerkcafe.png
END:VEVENT
BEGIN:VEVENT
DTSTART;TZID=Europe/Amsterdam:20270105T100000
DTEND;TZID=Europe/Amsterdam:20270105T120000
DTSTAMP:20260421T231140
CREATED:20260318T104105Z
LAST-MODIFIED:20260318T104105Z
UID:5845-1799143200-1799150400@www.paxchristikerk.nl
SUMMARY:KerkCafé
DESCRIPTION:De (gratis) koffie staat klaar\, en er is voor elk wat wils. Er is een stamtafel voor een gezellige ontmoeting met een buurtgenoot
URL:https://www.paxchristikerk.nl/agenda/kerkcafe-144/
LOCATION:Pax Christikerk\, Vlamenburg 2\, Den Haag\, 2591 AS\, Nederland
CATEGORIES:Agenda,KerkCafé
ATTACH;FMTTYPE=image/png:https://www.paxchristikerk.nl/wp-content/uploads/2024/02/kerkcafe.png
END:VEVENT
BEGIN:VEVENT
DTSTART;TZID=Europe/Amsterdam:20270112T100000
DTEND;TZID=Europe/Amsterdam:20270112T120000
DTSTAMP:20260421T231140
CREATED:20260318T104105Z
LAST-MODIFIED:20260318T104105Z
UID:5846-1799748000-1799755200@www.paxchristikerk.nl
SUMMARY:KerkCafé
DESCRIPTION:De (gratis) koffie staat klaar\, en er is voor elk wat wils. Er is een stamtafel voor een gezellige ontmoeting met een buurtgenoot
URL:https://www.paxchristikerk.nl/agenda/kerkcafe-145/
LOCATION:Pax Christikerk\, Vlamenburg 2\, Den Haag\, 2591 AS\, Nederland
CATEGORIES:Agenda,KerkCafé
ATTACH;FMTTYPE=image/png:https://www.paxchristikerk.nl/wp-content/uploads/2024/02/kerkcafe.png
END:VEVENT
BEGIN:VEVENT
DTSTART;TZID=Europe/Amsterdam:20270119T100000
DTEND;TZID=Europe/Amsterdam:20270119T120000
DTSTAMP:20260421T231140
CREATED:20260318T104106Z
LAST-MODIFIED:20260318T104106Z
UID:5847-1800352800-1800360000@www.paxchristikerk.nl
SUMMARY:KerkCafé
DESCRIPTION:De (gratis) koffie staat klaar\, en er is voor elk wat wils. Er is een stamtafel voor een gezellige ontmoeting met een buurtgenoot
URL:https://www.paxchristikerk.nl/agenda/kerkcafe-146/
LOCATION:Pax Christikerk\, Vlamenburg 2\, Den Haag\, 2591 AS\, Nederland
CATEGORIES:Agenda,KerkCafé
ATTACH;FMTTYPE=image/png:https://www.paxchristikerk.nl/wp-content/uploads/2024/02/kerkcafe.png
END:VEVENT
BEGIN:VEVENT
DTSTART;TZID=Europe/Amsterdam:20270126T100000
DTEND;TZID=Europe/Amsterdam:20270126T120000
DTSTAMP:20260421T231140
CREATED:20260318T104106Z
LAST-MODIFIED:20260318T104106Z
UID:5848-1800957600-1800964800@www.paxchristikerk.nl
SUMMARY:KerkCafé
DESCRIPTION:De (gratis) koffie staat klaar\, en er is voor elk wat wils. Er is een stamtafel voor een gezellige ontmoeting met een buurtgenoot
URL:https://www.paxchristikerk.nl/agenda/kerkcafe-147/
LOCATION:Pax Christikerk\, Vlamenburg 2\, Den Haag\, 2591 AS\, Nederland
CATEGORIES:Agenda,KerkCafé
ATTACH;FMTTYPE=image/png:https://www.paxchristikerk.nl/wp-content/uploads/2024/02/kerkcafe.png
END:VEVENT
BEGIN:VEVENT
DTSTART;TZID=Europe/Amsterdam:20270202T100000
DTEND;TZID=Europe/Amsterdam:20270202T120000
DTSTAMP:20260421T231140
CREATED:20260318T104119Z
LAST-MODIFIED:20260318T104119Z
UID:5849-1801562400-1801569600@www.paxchristikerk.nl
SUMMARY:KerkCafé
DESCRIPTION:De (gratis) koffie staat klaar\, en er is voor elk wat wils. Er is een stamtafel voor een gezellige ontmoeting met een buurtgenoot
URL:https://www.paxchristikerk.nl/agenda/kerkcafe-148/
LOCATION:Pax Christikerk\, Vlamenburg 2\, Den Haag\, 2591 AS\, Nederland
CATEGORIES:Agenda,KerkCafé
ATTACH;FMTTYPE=image/png:https://www.paxchristikerk.nl/wp-content/uploads/2024/02/kerkcafe.png
END:VEVENT
BEGIN:VEVENT
DTSTART;TZID=Europe/Amsterdam:20270209T100000
DTEND;TZID=Europe/Amsterdam:20270209T120000
DTSTAMP:20260421T231140
CREATED:20260318T104119Z
LAST-MODIFIED:20260318T104119Z
UID:5850-1802167200-1802174400@www.paxchristikerk.nl
SUMMARY:KerkCafé
DESCRIPTION:De (gratis) koffie staat klaar\, en er is voor elk wat wils. Er is een stamtafel voor een gezellige ontmoeting met een buurtgenoot
URL:https://www.paxchristikerk.nl/agenda/kerkcafe-149/
LOCATION:Pax Christikerk\, Vlamenburg 2\, Den Haag\, 2591 AS\, Nederland
CATEGORIES:Agenda,KerkCafé
ATTACH;FMTTYPE=image/png:https://www.paxchristikerk.nl/wp-content/uploads/2024/02/kerkcafe.png
END:VEVENT
BEGIN:VEVENT
DTSTART;TZID=Europe/Amsterdam:20270216T100000
DTEND;TZID=Europe/Amsterdam:20270216T120000
DTSTAMP:20260421T231140
CREATED:20260318T104119Z
LAST-MODIFIED:20260318T104119Z
UID:5851-1802772000-1802779200@www.paxchristikerk.nl
SUMMARY:KerkCafé
DESCRIPTION:De (gratis) koffie staat klaar\, en er is voor elk wat wils. Er is een stamtafel voor een gezellige ontmoeting met een buurtgenoot
URL:https://www.paxchristikerk.nl/agenda/kerkcafe-150/
LOCATION:Pax Christikerk\, Vlamenburg 2\, Den Haag\, 2591 AS\, Nederland
CATEGORIES:Agenda,KerkCafé
ATTACH;FMTTYPE=image/png:https://www.paxchristikerk.nl/wp-content/uploads/2024/02/kerkcafe.png
END:VEVENT
BEGIN:VEVENT
DTSTART;TZID=Europe/Amsterdam:20270223T100000
DTEND;TZID=Europe/Amsterdam:20270223T120000
DTSTAMP:20260421T231140
CREATED:20260318T104120Z
LAST-MODIFIED:20260318T104120Z
UID:5852-1803376800-1803384000@www.paxchristikerk.nl
SUMMARY:KerkCafé
DESCRIPTION:De (gratis) koffie staat klaar\, en er is voor elk wat wils. Er is een stamtafel voor een gezellige ontmoeting met een buurtgenoot
URL:https://www.paxchristikerk.nl/agenda/kerkcafe-151/
LOCATION:Pax Christikerk\, Vlamenburg 2\, Den Haag\, 2591 AS\, Nederland
CATEGORIES:Agenda,KerkCafé
ATTACH;FMTTYPE=image/png:https://www.paxchristikerk.nl/wp-content/uploads/2024/02/kerkcafe.png
END:VEVENT
BEGIN:VEVENT
DTSTART;TZID=Europe/Amsterdam:20270302T100000
DTEND;TZID=Europe/Amsterdam:20270302T120000
DTSTAMP:20260421T231140
CREATED:20260318T104120Z
LAST-MODIFIED:20260318T104120Z
UID:5853-1803981600-1803988800@www.paxchristikerk.nl
SUMMARY:KerkCafé
DESCRIPTION:De (gratis) koffie staat klaar\, en er is voor elk wat wils. Er is een stamtafel voor een gezellige ontmoeting met een buurtgenoot
URL:https://www.paxchristikerk.nl/agenda/kerkcafe-152/
LOCATION:Pax Christikerk\, Vlamenburg 2\, Den Haag\, 2591 AS\, Nederland
CATEGORIES:Agenda,KerkCafé
ATTACH;FMTTYPE=image/png:https://www.paxchristikerk.nl/wp-content/uploads/2024/02/kerkcafe.png
END:VEVENT
END:VCALENDAR