BEGIN:VCALENDAR
VERSION:2.0
PRODID:-//Pax Christikerk - ECPv6.15.20//NONSGML v1.0//EN
CALSCALE:GREGORIAN
METHOD:PUBLISH
X-WR-CALNAME:Pax Christikerk
X-ORIGINAL-URL:https://www.paxchristikerk.nl
X-WR-CALDESC:Evenementen voor Pax Christikerk
REFRESH-INTERVAL;VALUE=DURATION:PT1H
X-Robots-Tag:noindex
X-PUBLISHED-TTL:PT1H
BEGIN:VTIMEZONE
TZID:Europe/Amsterdam
BEGIN:DAYLIGHT
TZOFFSETFROM:+0100
TZOFFSETTO:+0200
TZNAME:CEST
DTSTART:20250330T010000
END:DAYLIGHT
BEGIN:STANDARD
TZOFFSETFROM:+0200
TZOFFSETTO:+0100
TZNAME:CET
DTSTART:20251026T010000
END:STANDARD
BEGIN:DAYLIGHT
TZOFFSETFROM:+0100
TZOFFSETTO:+0200
TZNAME:CEST
DTSTART:20260329T010000
END:DAYLIGHT
BEGIN:STANDARD
TZOFFSETFROM:+0200
TZOFFSETTO:+0100
TZNAME:CET
DTSTART:20261025T010000
END:STANDARD
BEGIN:DAYLIGHT
TZOFFSETFROM:+0100
TZOFFSETTO:+0200
TZNAME:CEST
DTSTART:20270328T010000
END:DAYLIGHT
BEGIN:STANDARD
TZOFFSETFROM:+0200
TZOFFSETTO:+0100
TZNAME:CET
DTSTART:20271031T010000
END:STANDARD
END:VTIMEZONE
BEGIN:VEVENT
DTSTART;TZID=Europe/Amsterdam:20260802T110000
DTEND;TZID=Europe/Amsterdam:20260802T123000
DTSTAMP:20260423T100231
CREATED:20260104T124109Z
LAST-MODIFIED:20260104T124109Z
UID:5682-1785668400-1785673800@www.paxchristikerk.nl
SUMMARY:Paxdienst - ?
DESCRIPTION:Predikant: ? \nRechtstreeks (of achteraf) te zien op ons YouTube kanaal:https://www.youtube.com/@paxchristikerk \nRechtstreeks (of achteraf) te beluisteren via Kerkdienstgemist:https://kerkdienstgemist.nl/stations/1585-Pax-Christikerk-Den-Haag
URL:https://www.paxchristikerk.nl/agenda/paxdienst-2/
LOCATION:Pax Christikerk\, Vlamenburg 2\, Den Haag\, 2591 AS\, Nederland
CATEGORIES:Agenda,Paxdienst
ATTACH;FMTTYPE=image/jpeg:https://www.paxchristikerk.nl/wp-content/uploads/2020/04/20200401_170659-scaled.jpg
END:VEVENT
BEGIN:VEVENT
DTSTART;TZID=Europe/Amsterdam:20260804T100000
DTEND;TZID=Europe/Amsterdam:20260804T120000
DTSTAMP:20260423T100231
CREATED:20260318T103950Z
LAST-MODIFIED:20260318T103950Z
UID:5823-1785837600-1785844800@www.paxchristikerk.nl
SUMMARY:KerkCafé
DESCRIPTION:De (gratis) koffie staat klaar\, en er is voor elk wat wils. Er is een stamtafel voor een gezellige ontmoeting met een buurtgenoot
URL:https://www.paxchristikerk.nl/agenda/kerkcafe-122/
LOCATION:Pax Christikerk\, Vlamenburg 2\, Den Haag\, 2591 AS\, Nederland
CATEGORIES:Agenda,KerkCafé
ATTACH;FMTTYPE=image/png:https://www.paxchristikerk.nl/wp-content/uploads/2024/02/kerkcafe.png
END:VEVENT
BEGIN:VEVENT
DTSTART;TZID=Europe/Amsterdam:20260809T110000
DTEND;TZID=Europe/Amsterdam:20260809T123000
DTSTAMP:20260423T100231
CREATED:20260104T124109Z
LAST-MODIFIED:20260104T124109Z
UID:5683-1786273200-1786278600@www.paxchristikerk.nl
SUMMARY:Paxdienst - Klaas Bos
DESCRIPTION:Predikant: Klaas Bos \nRechtstreeks (of achteraf) te zien op ons YouTube kanaal:https://www.youtube.com/@paxchristikerk \nRechtstreeks (of achteraf) te beluisteren via Kerkdienstgemist:https://kerkdienstgemist.nl/stations/1585-Pax-Christikerk-Den-Haag
URL:https://www.paxchristikerk.nl/agenda/paxdienst-klaas-bos-2/
LOCATION:Pax Christikerk\, Vlamenburg 2\, Den Haag\, 2591 AS\, Nederland
CATEGORIES:Agenda,Paxdienst
ATTACH;FMTTYPE=image/jpeg:https://www.paxchristikerk.nl/wp-content/uploads/2023/09/Klaas-Bos-coordinator1.jpg
END:VEVENT
BEGIN:VEVENT
DTSTART;TZID=Europe/Amsterdam:20260811T100000
DTEND;TZID=Europe/Amsterdam:20260811T120000
DTSTAMP:20260423T100231
CREATED:20260318T104005Z
LAST-MODIFIED:20260318T104005Z
UID:5824-1786442400-1786449600@www.paxchristikerk.nl
SUMMARY:KerkCafé
DESCRIPTION:De (gratis) koffie staat klaar\, en er is voor elk wat wils. Er is een stamtafel voor een gezellige ontmoeting met een buurtgenoot
URL:https://www.paxchristikerk.nl/agenda/kerkcafe-123/
LOCATION:Pax Christikerk\, Vlamenburg 2\, Den Haag\, 2591 AS\, Nederland
CATEGORIES:Agenda,KerkCafé
ATTACH;FMTTYPE=image/png:https://www.paxchristikerk.nl/wp-content/uploads/2024/02/kerkcafe.png
END:VEVENT
BEGIN:VEVENT
DTSTART;TZID=Europe/Amsterdam:20260816T110000
DTEND;TZID=Europe/Amsterdam:20260816T123000
DTSTAMP:20260423T100231
CREATED:20260104T124109Z
LAST-MODIFIED:20260104T124109Z
UID:5684-1786878000-1786883400@www.paxchristikerk.nl
SUMMARY:Paxdienst - ds. Beppie Wessels-Schuurman
DESCRIPTION:Predikant: ds. Beppie Wessels-Schuurman \nRechtstreeks (of achteraf) te zien op ons YouTube kanaal:https://www.youtube.com/@paxchristikerk \nRechtstreeks (of achteraf) te beluisteren via Kerkdienstgemist:https://kerkdienstgemist.nl/stations/1585-Pax-Christikerk-Den-Haag
URL:https://www.paxchristikerk.nl/agenda/paxdienst-ds-beppie-wessels-schuurman-6/
LOCATION:Pax Christikerk\, Vlamenburg 2\, Den Haag\, 2591 AS\, Nederland
CATEGORIES:Agenda,Paxdienst
ATTACH;FMTTYPE=image/png:https://www.paxchristikerk.nl/wp-content/uploads/2026/01/1755939538254.png
END:VEVENT
BEGIN:VEVENT
DTSTART;TZID=Europe/Amsterdam:20260818T100000
DTEND;TZID=Europe/Amsterdam:20260818T120000
DTSTAMP:20260423T100231
CREATED:20260318T104006Z
LAST-MODIFIED:20260318T104006Z
UID:5825-1787047200-1787054400@www.paxchristikerk.nl
SUMMARY:KerkCafé
DESCRIPTION:De (gratis) koffie staat klaar\, en er is voor elk wat wils. Er is een stamtafel voor een gezellige ontmoeting met een buurtgenoot
URL:https://www.paxchristikerk.nl/agenda/kerkcafe-124/
LOCATION:Pax Christikerk\, Vlamenburg 2\, Den Haag\, 2591 AS\, Nederland
CATEGORIES:Agenda,KerkCafé
ATTACH;FMTTYPE=image/png:https://www.paxchristikerk.nl/wp-content/uploads/2024/02/kerkcafe.png
END:VEVENT
BEGIN:VEVENT
DTSTART;TZID=Europe/Amsterdam:20260823T110000
DTEND;TZID=Europe/Amsterdam:20260823T123000
DTSTAMP:20260423T100231
CREATED:20260104T124110Z
LAST-MODIFIED:20260104T124110Z
UID:5685-1787482800-1787488200@www.paxchristikerk.nl
SUMMARY:Paxdienst - ds. Jasper Klapwijk
DESCRIPTION:Predikant: ds. Jasper Klapwijk \nRechtstreeks (of achteraf) te zien op ons YouTube kanaal:https://www.youtube.com/@paxchristikerk \nRechtstreeks (of achteraf) te beluisteren via Kerkdienstgemist:https://kerkdienstgemist.nl/stations/1585-Pax-Christikerk-Den-Haag
URL:https://www.paxchristikerk.nl/agenda/paxdienst-ds-jasper-klapwijk-66/
LOCATION:Pax Christikerk\, Vlamenburg 2\, Den Haag\, 2591 AS\, Nederland
CATEGORIES:Agenda,Paxdienst
ATTACH;FMTTYPE=image/jpeg:https://www.paxchristikerk.nl/wp-content/uploads/2023/10/Jasper1-scaled.jpg
END:VEVENT
BEGIN:VEVENT
DTSTART;TZID=Europe/Amsterdam:20260825T100000
DTEND;TZID=Europe/Amsterdam:20260825T120000
DTSTAMP:20260423T100231
CREATED:20260318T104006Z
LAST-MODIFIED:20260318T104006Z
UID:5826-1787652000-1787659200@www.paxchristikerk.nl
SUMMARY:KerkCafé
DESCRIPTION:De (gratis) koffie staat klaar\, en er is voor elk wat wils. Er is een stamtafel voor een gezellige ontmoeting met een buurtgenoot
URL:https://www.paxchristikerk.nl/agenda/kerkcafe-125/
LOCATION:Pax Christikerk\, Vlamenburg 2\, Den Haag\, 2591 AS\, Nederland
CATEGORIES:Agenda,KerkCafé
ATTACH;FMTTYPE=image/png:https://www.paxchristikerk.nl/wp-content/uploads/2024/02/kerkcafe.png
END:VEVENT
BEGIN:VEVENT
DTSTART;TZID=Europe/Amsterdam:20260830T110000
DTEND;TZID=Europe/Amsterdam:20260830T123000
DTSTAMP:20260423T100231
CREATED:20260104T124110Z
LAST-MODIFIED:20260104T124110Z
UID:5686-1788087600-1788093000@www.paxchristikerk.nl
SUMMARY:Paxdienst - ds. Egbert Brink
DESCRIPTION:Predikant: ds. Egbert Brink  \nRechtstreeks (of achteraf) te zien op ons YouTube kanaal:https://www.youtube.com/@paxchristikerk \nRechtstreeks (of achteraf) te beluisteren via Kerkdienstgemist:https://kerkdienstgemist.nl/stations/1585-Pax-Christikerk-Den-Haag
URL:https://www.paxchristikerk.nl/agenda/paxdienst-ds-egbert-brink/
LOCATION:Pax Christikerk\, Vlamenburg 2\, Den Haag\, 2591 AS\, Nederland
CATEGORIES:Agenda,Paxdienst
ATTACH;FMTTYPE=image/jpeg:https://www.paxchristikerk.nl/wp-content/uploads/2020/04/20200401_170659-scaled.jpg
END:VEVENT
END:VCALENDAR