BEGIN:VCALENDAR
VERSION:2.0
PRODID:-//Pax Christikerk - ECPv6.15.20//NONSGML v1.0//EN
CALSCALE:GREGORIAN
METHOD:PUBLISH
X-ORIGINAL-URL:https://www.paxchristikerk.nl
X-WR-CALDESC:Evenementen voor Pax Christikerk
REFRESH-INTERVAL;VALUE=DURATION:PT1H
X-Robots-Tag:noindex
X-PUBLISHED-TTL:PT1H
BEGIN:VTIMEZONE
TZID:Europe/Amsterdam
BEGIN:DAYLIGHT
TZOFFSETFROM:+0100
TZOFFSETTO:+0200
TZNAME:CEST
DTSTART:20250330T010000
END:DAYLIGHT
BEGIN:STANDARD
TZOFFSETFROM:+0200
TZOFFSETTO:+0100
TZNAME:CET
DTSTART:20251026T010000
END:STANDARD
BEGIN:DAYLIGHT
TZOFFSETFROM:+0100
TZOFFSETTO:+0200
TZNAME:CEST
DTSTART:20260329T010000
END:DAYLIGHT
BEGIN:STANDARD
TZOFFSETFROM:+0200
TZOFFSETTO:+0100
TZNAME:CET
DTSTART:20261025T010000
END:STANDARD
BEGIN:DAYLIGHT
TZOFFSETFROM:+0100
TZOFFSETTO:+0200
TZNAME:CEST
DTSTART:20270328T010000
END:DAYLIGHT
BEGIN:STANDARD
TZOFFSETFROM:+0200
TZOFFSETTO:+0100
TZNAME:CET
DTSTART:20271031T010000
END:STANDARD
END:VTIMEZONE
BEGIN:VEVENT
DTSTART;TZID=Europe/Amsterdam:20260901T100000
DTEND;TZID=Europe/Amsterdam:20260901T120000
DTSTAMP:20260423T125407
CREATED:20260318T104007Z
LAST-MODIFIED:20260318T104007Z
UID:5827-1788256800-1788264000@www.paxchristikerk.nl
SUMMARY:KerkCafé
DESCRIPTION:De (gratis) koffie staat klaar\, en er is voor elk wat wils. Er is een stamtafel voor een gezellige ontmoeting met een buurtgenoot
URL:https://www.paxchristikerk.nl/agenda/kerkcafe-126/
LOCATION:Pax Christikerk\, Vlamenburg 2\, Den Haag\, 2591 AS\, Nederland
CATEGORIES:Agenda,KerkCafé
ATTACH;FMTTYPE=image/png:https://www.paxchristikerk.nl/wp-content/uploads/2024/02/kerkcafe.png
END:VEVENT
BEGIN:VEVENT
DTSTART;TZID=Europe/Amsterdam:20260906T110000
DTEND;TZID=Europe/Amsterdam:20260906T123000
DTSTAMP:20260423T125407
CREATED:20260104T124134Z
LAST-MODIFIED:20260104T124134Z
UID:5687-1788692400-1788697800@www.paxchristikerk.nl
SUMMARY:Paxdienst - ds. Jasper Klapwijk
DESCRIPTION:Predikant: ds. Jasper Klapwijk \nRechtstreeks (of achteraf) te zien op ons YouTube kanaal:https://www.youtube.com/@paxchristikerk \nRechtstreeks (of achteraf) te beluisteren via Kerkdienstgemist:https://kerkdienstgemist.nl/stations/1585-Pax-Christikerk-Den-Haag
URL:https://www.paxchristikerk.nl/agenda/paxdienst-ds-jasper-klapwijk-67/
LOCATION:Pax Christikerk\, Vlamenburg 2\, Den Haag\, 2591 AS\, Nederland
CATEGORIES:Agenda,Paxdienst
ATTACH;FMTTYPE=image/jpeg:https://www.paxchristikerk.nl/wp-content/uploads/2022/12/Jasper2-scaled.jpg
END:VEVENT
BEGIN:VEVENT
DTSTART;TZID=Europe/Amsterdam:20260908T100000
DTEND;TZID=Europe/Amsterdam:20260908T120000
DTSTAMP:20260423T125407
CREATED:20260318T104007Z
LAST-MODIFIED:20260318T104007Z
UID:5828-1788861600-1788868800@www.paxchristikerk.nl
SUMMARY:KerkCafé
DESCRIPTION:De (gratis) koffie staat klaar\, en er is voor elk wat wils. Er is een stamtafel voor een gezellige ontmoeting met een buurtgenoot
URL:https://www.paxchristikerk.nl/agenda/kerkcafe-127/
LOCATION:Pax Christikerk\, Vlamenburg 2\, Den Haag\, 2591 AS\, Nederland
CATEGORIES:Agenda,KerkCafé
ATTACH;FMTTYPE=image/png:https://www.paxchristikerk.nl/wp-content/uploads/2024/02/kerkcafe.png
END:VEVENT
BEGIN:VEVENT
DTSTART;TZID=Europe/Amsterdam:20260909T100000
DTEND;TZID=Europe/Amsterdam:20260909T113000
DTSTAMP:20260423T125407
CREATED:20260415T194403Z
LAST-MODIFIED:20260415T194403Z
UID:5890-1788948000-1788953400@www.paxchristikerk.nl
SUMMARY:Zangochtend
DESCRIPTION:Elke derde dinsdag van de maand is er een zangochtend. Om 10 uur wordt begonnen met een bakje koffie of thee\, waarna in de kerkzaal onder orgelbegeleiding een uurtje gezongen wordt. Het repertoire bestaat vooral uit de wat klassiekere liederen: psalmen en liederen uit het oude Liedboek voor de Kerken. Iedereen die mee wil zingen is van harte welkom.
URL:https://www.paxchristikerk.nl/agenda/zangochtend-12/
LOCATION:Pax Christikerk\, Vlamenburg 2\, Den Haag\, 2591 AS\, Nederland
CATEGORIES:Agenda,Zangochtend
ATTACH;FMTTYPE=image/jpeg:https://www.paxchristikerk.nl/wp-content/uploads/2023/09/3_13-caen41.jpg
END:VEVENT
BEGIN:VEVENT
DTSTART;TZID=Europe/Amsterdam:20260913T110000
DTEND;TZID=Europe/Amsterdam:20260913T123000
DTSTAMP:20260423T125407
CREATED:20260104T124135Z
LAST-MODIFIED:20260104T124135Z
UID:5688-1789297200-1789302600@www.paxchristikerk.nl
SUMMARY:Paxdienst - ds. Hans van 't Hoff
DESCRIPTION:Predikant: ds. Hans van ’t Hoff \nRechtstreeks (of achteraf) te zien op ons YouTube kanaal:https://www.youtube.com/@paxchristikerk \nRechtstreeks (of achteraf) te beluisteren via Kerkdienstgemist:https://kerkdienstgemist.nl/stations/1585-Pax-Christikerk-Den-Haag
URL:https://www.paxchristikerk.nl/agenda/paxdienst-ds-hans-van-t-hoff-5/
LOCATION:Pax Christikerk\, Vlamenburg 2\, Den Haag\, 2591 AS\, Nederland
CATEGORIES:Agenda,Paxdienst
ATTACH;FMTTYPE=image/jpeg:https://www.paxchristikerk.nl/wp-content/uploads/2026/01/IMG-20230404-WA0003_588_1681044815544.jpg
END:VEVENT
BEGIN:VEVENT
DTSTART;TZID=Europe/Amsterdam:20260915T100000
DTEND;TZID=Europe/Amsterdam:20260915T120000
DTSTAMP:20260423T125407
CREATED:20260318T104020Z
LAST-MODIFIED:20260318T104020Z
UID:5829-1789466400-1789473600@www.paxchristikerk.nl
SUMMARY:KerkCafé
DESCRIPTION:De (gratis) koffie staat klaar\, en er is voor elk wat wils. Er is een stamtafel voor een gezellige ontmoeting met een buurtgenoot
URL:https://www.paxchristikerk.nl/agenda/kerkcafe-128/
LOCATION:Pax Christikerk\, Vlamenburg 2\, Den Haag\, 2591 AS\, Nederland
CATEGORIES:Agenda,KerkCafé
ATTACH;FMTTYPE=image/png:https://www.paxchristikerk.nl/wp-content/uploads/2024/02/kerkcafe.png
END:VEVENT
BEGIN:VEVENT
DTSTART;TZID=Europe/Amsterdam:20260920T110000
DTEND;TZID=Europe/Amsterdam:20260920T123000
DTSTAMP:20260423T125407
CREATED:20260104T124135Z
LAST-MODIFIED:20260104T124135Z
UID:5689-1789902000-1789907400@www.paxchristikerk.nl
SUMMARY:Paxdienst - ds. Jasper Klapwijk
DESCRIPTION:Predikant: ds. Jasper Klapwijk \nRechtstreeks (of achteraf) te zien op ons YouTube kanaal:https://www.youtube.com/@paxchristikerk \nRechtstreeks (of achteraf) te beluisteren via Kerkdienstgemist:https://kerkdienstgemist.nl/stations/1585-Pax-Christikerk-Den-Haag
URL:https://www.paxchristikerk.nl/agenda/paxdienst-ds-jasper-klapwijk-68/
LOCATION:Pax Christikerk\, Vlamenburg 2\, Den Haag\, 2591 AS\, Nederland
CATEGORIES:Agenda,Paxdienst
ATTACH;FMTTYPE=image/jpeg:https://www.paxchristikerk.nl/wp-content/uploads/2022/12/Jasper2-scaled.jpg
END:VEVENT
BEGIN:VEVENT
DTSTART;TZID=Europe/Amsterdam:20260922T100000
DTEND;TZID=Europe/Amsterdam:20260922T120000
DTSTAMP:20260423T125407
CREATED:20260318T104020Z
LAST-MODIFIED:20260318T104020Z
UID:5830-1790071200-1790078400@www.paxchristikerk.nl
SUMMARY:KerkCafé
DESCRIPTION:De (gratis) koffie staat klaar\, en er is voor elk wat wils. Er is een stamtafel voor een gezellige ontmoeting met een buurtgenoot
URL:https://www.paxchristikerk.nl/agenda/kerkcafe-129/
LOCATION:Pax Christikerk\, Vlamenburg 2\, Den Haag\, 2591 AS\, Nederland
CATEGORIES:Agenda,KerkCafé
ATTACH;FMTTYPE=image/png:https://www.paxchristikerk.nl/wp-content/uploads/2024/02/kerkcafe.png
END:VEVENT
BEGIN:VEVENT
DTSTART;TZID=Europe/Amsterdam:20260927T110000
DTEND;TZID=Europe/Amsterdam:20260927T123000
DTSTAMP:20260423T125407
CREATED:20260104T124135Z
LAST-MODIFIED:20260104T124135Z
UID:5690-1790506800-1790512200@www.paxchristikerk.nl
SUMMARY:Paxdienst - ds. Peter Bakker
DESCRIPTION:Predikant: ds. Peter Bakker \nRechtstreeks (of achteraf) te zien op ons YouTube kanaal:https://www.youtube.com/@paxchristikerk \nRechtstreeks (of achteraf) te beluisteren via Kerkdienstgemist:https://kerkdienstgemist.nl/stations/1585-Pax-Christikerk-Den-Haag
URL:https://www.paxchristikerk.nl/agenda/paxdienst-ds-peter-bakker-6/
LOCATION:Pax Christikerk\, Vlamenburg 2\, Den Haag\, 2591 AS\, Nederland
CATEGORIES:Agenda,Paxdienst
ATTACH;FMTTYPE=image/jpeg:https://www.paxchristikerk.nl/wp-content/uploads/2024/03/1517013875703.jpg
END:VEVENT
BEGIN:VEVENT
DTSTART;TZID=Europe/Amsterdam:20260929T100000
DTEND;TZID=Europe/Amsterdam:20260929T120000
DTSTAMP:20260423T125407
CREATED:20260318T104020Z
LAST-MODIFIED:20260318T104020Z
UID:5831-1790676000-1790683200@www.paxchristikerk.nl
SUMMARY:KerkCafé
DESCRIPTION:De (gratis) koffie staat klaar\, en er is voor elk wat wils. Er is een stamtafel voor een gezellige ontmoeting met een buurtgenoot
URL:https://www.paxchristikerk.nl/agenda/kerkcafe-130/
LOCATION:Pax Christikerk\, Vlamenburg 2\, Den Haag\, 2591 AS\, Nederland
CATEGORIES:Agenda,KerkCafé
ATTACH;FMTTYPE=image/png:https://www.paxchristikerk.nl/wp-content/uploads/2024/02/kerkcafe.png
END:VEVENT
END:VCALENDAR