BEGIN:VCALENDAR
VERSION:2.0
PRODID:-//Pax Christikerk - ECPv6.15.20//NONSGML v1.0//EN
CALSCALE:GREGORIAN
METHOD:PUBLISH
X-WR-CALNAME:Pax Christikerk
X-ORIGINAL-URL:https://www.paxchristikerk.nl
X-WR-CALDESC:Evenementen voor Pax Christikerk
REFRESH-INTERVAL;VALUE=DURATION:PT1H
X-Robots-Tag:noindex
X-PUBLISHED-TTL:PT1H
BEGIN:VTIMEZONE
TZID:Europe/Amsterdam
BEGIN:DAYLIGHT
TZOFFSETFROM:+0100
TZOFFSETTO:+0200
TZNAME:CEST
DTSTART:20250330T010000
END:DAYLIGHT
BEGIN:STANDARD
TZOFFSETFROM:+0200
TZOFFSETTO:+0100
TZNAME:CET
DTSTART:20251026T010000
END:STANDARD
BEGIN:DAYLIGHT
TZOFFSETFROM:+0100
TZOFFSETTO:+0200
TZNAME:CEST
DTSTART:20260329T010000
END:DAYLIGHT
BEGIN:STANDARD
TZOFFSETFROM:+0200
TZOFFSETTO:+0100
TZNAME:CET
DTSTART:20261025T010000
END:STANDARD
BEGIN:DAYLIGHT
TZOFFSETFROM:+0100
TZOFFSETTO:+0200
TZNAME:CEST
DTSTART:20270328T010000
END:DAYLIGHT
BEGIN:STANDARD
TZOFFSETFROM:+0200
TZOFFSETTO:+0100
TZNAME:CET
DTSTART:20271031T010000
END:STANDARD
END:VTIMEZONE
BEGIN:VEVENT
DTSTART;TZID=Europe/Amsterdam:20261101T110000
DTEND;TZID=Europe/Amsterdam:20261101T123000
DTSTAMP:20260423T152631
CREATED:20260104T124150Z
LAST-MODIFIED:20260104T124150Z
UID:5695-1793530800-1793536200@www.paxchristikerk.nl
SUMMARY:Paxdienst - ds. Jasper Klapwijk
DESCRIPTION:Predikant: ds. Jasper Klapwijk \nRechtstreeks (of achteraf) te zien op ons YouTube kanaal:https://www.youtube.com/@paxchristikerk \nRechtstreeks (of achteraf) te beluisteren via Kerkdienstgemist:https://kerkdienstgemist.nl/stations/1585-Pax-Christikerk-Den-Haag
URL:https://www.paxchristikerk.nl/agenda/paxdienst-ds-jasper-klapwijk-71/
LOCATION:Pax Christikerk\, Vlamenburg 2\, Den Haag\, 2591 AS\, Nederland
CATEGORIES:Agenda,Paxdienst
ATTACH;FMTTYPE=image/jpeg:https://www.paxchristikerk.nl/wp-content/uploads/2023/10/Jasper1-scaled.jpg
END:VEVENT
BEGIN:VEVENT
DTSTART;TZID=Europe/Amsterdam:20261103T100000
DTEND;TZID=Europe/Amsterdam:20261103T120000
DTSTAMP:20260423T152631
CREATED:20260318T104034Z
LAST-MODIFIED:20260318T104034Z
UID:5836-1793700000-1793707200@www.paxchristikerk.nl
SUMMARY:KerkCafé
DESCRIPTION:De (gratis) koffie staat klaar\, en er is voor elk wat wils. Er is een stamtafel voor een gezellige ontmoeting met een buurtgenoot
URL:https://www.paxchristikerk.nl/agenda/kerkcafe-135/
LOCATION:Pax Christikerk\, Vlamenburg 2\, Den Haag\, 2591 AS\, Nederland
CATEGORIES:Agenda,KerkCafé
ATTACH;FMTTYPE=image/png:https://www.paxchristikerk.nl/wp-content/uploads/2024/02/kerkcafe.png
END:VEVENT
BEGIN:VEVENT
DTSTART;TZID=Europe/Amsterdam:20261108T110000
DTEND;TZID=Europe/Amsterdam:20261108T123000
DTSTAMP:20260423T152631
CREATED:20260104T124150Z
LAST-MODIFIED:20260104T124150Z
UID:5696-1794135600-1794141000@www.paxchristikerk.nl
SUMMARY:Paxdienst - ds. Jasper Klapwijk
DESCRIPTION:Predikant: ds. Jasper Klapwijk \nRechtstreeks (of achteraf) te zien op ons YouTube kanaal:https://www.youtube.com/@paxchristikerk \nRechtstreeks (of achteraf) te beluisteren via Kerkdienstgemist:https://kerkdienstgemist.nl/stations/1585-Pax-Christikerk-Den-Haag
URL:https://www.paxchristikerk.nl/agenda/paxdienst-ds-jasper-klapwijk-72/
LOCATION:Pax Christikerk\, Vlamenburg 2\, Den Haag\, 2591 AS\, Nederland
CATEGORIES:Agenda,Paxdienst
ATTACH;FMTTYPE=image/jpeg:https://www.paxchristikerk.nl/wp-content/uploads/2022/12/Jasper2-scaled.jpg
END:VEVENT
BEGIN:VEVENT
DTSTART;TZID=Europe/Amsterdam:20261110T100000
DTEND;TZID=Europe/Amsterdam:20261110T120000
DTSTAMP:20260423T152631
CREATED:20260318T104034Z
LAST-MODIFIED:20260318T104034Z
UID:5837-1794304800-1794312000@www.paxchristikerk.nl
SUMMARY:KerkCafé
DESCRIPTION:De (gratis) koffie staat klaar\, en er is voor elk wat wils. Er is een stamtafel voor een gezellige ontmoeting met een buurtgenoot
URL:https://www.paxchristikerk.nl/agenda/kerkcafe-136/
LOCATION:Pax Christikerk\, Vlamenburg 2\, Den Haag\, 2591 AS\, Nederland
CATEGORIES:Agenda,KerkCafé
ATTACH;FMTTYPE=image/png:https://www.paxchristikerk.nl/wp-content/uploads/2024/02/kerkcafe.png
END:VEVENT
BEGIN:VEVENT
DTSTART;TZID=Europe/Amsterdam:20261111T100000
DTEND;TZID=Europe/Amsterdam:20261111T113000
DTSTAMP:20260423T152631
CREATED:20260415T194414Z
LAST-MODIFIED:20260415T194415Z
UID:5892-1794391200-1794396600@www.paxchristikerk.nl
SUMMARY:Zangochtend
DESCRIPTION:Elke derde dinsdag van de maand is er een zangochtend. Om 10 uur wordt begonnen met een bakje koffie of thee\, waarna in de kerkzaal onder orgelbegeleiding een uurtje gezongen wordt. Het repertoire bestaat vooral uit de wat klassiekere liederen: psalmen en liederen uit het oude Liedboek voor de Kerken. Iedereen die mee wil zingen is van harte welkom.
URL:https://www.paxchristikerk.nl/agenda/zangochtend-14/
LOCATION:Pax Christikerk\, Vlamenburg 2\, Den Haag\, 2591 AS\, Nederland
CATEGORIES:Agenda,Zangochtend
ATTACH;FMTTYPE=image/jpeg:https://www.paxchristikerk.nl/wp-content/uploads/2023/09/3_13-caen41.jpg
END:VEVENT
BEGIN:VEVENT
DTSTART;TZID=Europe/Amsterdam:20261115T110000
DTEND;TZID=Europe/Amsterdam:20261115T123000
DTSTAMP:20260423T152631
CREATED:20260104T124205Z
LAST-MODIFIED:20260104T124205Z
UID:5697-1794740400-1794745800@www.paxchristikerk.nl
SUMMARY:Paxdienst - Hendrik Stevens
DESCRIPTION:Predikant: Hendrik Stevens \nRechtstreeks (of achteraf) te zien op ons YouTube kanaal:https://www.youtube.com/@paxchristikerk \nRechtstreeks (of achteraf) te beluisteren via Kerkdienstgemist:https://kerkdienstgemist.nl/stations/1585-Pax-Christikerk-Den-Haag
URL:https://www.paxchristikerk.nl/agenda/paxdienst-hendrik-stevens-2/
LOCATION:Pax Christikerk\, Vlamenburg 2\, Den Haag\, 2591 AS\, Nederland
CATEGORIES:Agenda,Paxdienst
ATTACH;FMTTYPE=image/jpeg:https://www.paxchristikerk.nl/wp-content/uploads/2024/11/Hendrik-Stevens-JacoHoeveFotografie-683x10241-1.jpg
END:VEVENT
BEGIN:VEVENT
DTSTART;TZID=Europe/Amsterdam:20261117T100000
DTEND;TZID=Europe/Amsterdam:20261117T120000
DTSTAMP:20260423T152631
CREATED:20260318T104034Z
LAST-MODIFIED:20260318T104034Z
UID:5838-1794909600-1794916800@www.paxchristikerk.nl
SUMMARY:KerkCafé
DESCRIPTION:De (gratis) koffie staat klaar\, en er is voor elk wat wils. Er is een stamtafel voor een gezellige ontmoeting met een buurtgenoot
URL:https://www.paxchristikerk.nl/agenda/kerkcafe-137/
LOCATION:Pax Christikerk\, Vlamenburg 2\, Den Haag\, 2591 AS\, Nederland
CATEGORIES:Agenda,KerkCafé
ATTACH;FMTTYPE=image/png:https://www.paxchristikerk.nl/wp-content/uploads/2024/02/kerkcafe.png
END:VEVENT
BEGIN:VEVENT
DTSTART;TZID=Europe/Amsterdam:20261122T110000
DTEND;TZID=Europe/Amsterdam:20261122T123000
DTSTAMP:20260423T152631
CREATED:20260104T124206Z
LAST-MODIFIED:20260104T124206Z
UID:5698-1795345200-1795350600@www.paxchristikerk.nl
SUMMARY:Eeuwigheidszondag - ds. Jasper Klapwijk
DESCRIPTION:Predikant: ds. Jasper Klapwijk \nRechtstreeks (of achteraf) te zien op ons YouTube kanaal:https://www.youtube.com/@paxchristikerk \nRechtstreeks (of achteraf) te beluisteren via Kerkdienstgemist:https://kerkdienstgemist.nl/stations/1585-Pax-Christikerk-Den-Haag
URL:https://www.paxchristikerk.nl/agenda/eeuwigheidszondag-ds-jasper-klapwijk-2/
LOCATION:Pax Christikerk\, Vlamenburg 2\, Den Haag\, 2591 AS\, Nederland
CATEGORIES:Agenda,Paxdienst
ATTACH;FMTTYPE=image/jpeg:https://www.paxchristikerk.nl/wp-content/uploads/2020/04/20200401_170659-scaled.jpg
END:VEVENT
BEGIN:VEVENT
DTSTART;TZID=Europe/Amsterdam:20261124T100000
DTEND;TZID=Europe/Amsterdam:20261124T120000
DTSTAMP:20260423T152631
CREATED:20260318T104049Z
LAST-MODIFIED:20260318T104049Z
UID:5839-1795514400-1795521600@www.paxchristikerk.nl
SUMMARY:KerkCafé
DESCRIPTION:De (gratis) koffie staat klaar\, en er is voor elk wat wils. Er is een stamtafel voor een gezellige ontmoeting met een buurtgenoot
URL:https://www.paxchristikerk.nl/agenda/kerkcafe-138/
LOCATION:Pax Christikerk\, Vlamenburg 2\, Den Haag\, 2591 AS\, Nederland
CATEGORIES:Agenda,KerkCafé
ATTACH;FMTTYPE=image/png:https://www.paxchristikerk.nl/wp-content/uploads/2024/02/kerkcafe.png
END:VEVENT
BEGIN:VEVENT
DTSTART;TZID=Europe/Amsterdam:20261129T110000
DTEND;TZID=Europe/Amsterdam:20261129T123000
DTSTAMP:20260423T152631
CREATED:20260104T124206Z
LAST-MODIFIED:20260104T124206Z
UID:5699-1795950000-1795955400@www.paxchristikerk.nl
SUMMARY:Paxdienst - dr. Gieneke Sneller-Vrolijk
DESCRIPTION:Predikant: dr. Gieneke Sneller-Vrolijk \nRechtstreeks (of achteraf) te zien op ons YouTube kanaal:https://www.youtube.com/@paxchristikerk \nRechtstreeks (of achteraf) te beluisteren via Kerkdienstgemist:https://kerkdienstgemist.nl/stations/1585-Pax-Christikerk-Den-Haag
URL:https://www.paxchristikerk.nl/agenda/paxdienst-dr-gieneke-sneller-vrolijk-5/
LOCATION:Pax Christikerk\, Vlamenburg 2\, Den Haag\, 2591 AS\, Nederland
CATEGORIES:Agenda,Paxdienst
ATTACH;FMTTYPE=image/jpeg:https://www.paxchristikerk.nl/wp-content/uploads/2024/11/Gieneke-202104-klein-768x7931-1.jpg
END:VEVENT
END:VCALENDAR